Workbook

Sheet Futterkosten
B1: Futterkosten-Rechner
B2: Mengen und Preise anpassen, Tages- und Monatskosten rechnen sich selbst. Beispielwerte zum Testen drin.
B4: Futterposten
B5: Futtermittel | C5: Pferd | D5: Menge kg/Tag | E5: Gebinde kg | F5: Preis je Gebinde | G5: Preis je kg | H5: Kosten je Tag | I5: Kosten je Monat
B6: Hafer | C6: Belmont | D6: 2.5 | E6: 25 | F6: 19.9 | G6: =IF(E6="","",F6/E6) | H6: =IF(OR(D6="",G6=""),"",D6*G6) | I6: =IF(H6="","",H6*30)
B7: Müsli, mineralisiert | C7: Belmont | D7: 1.5 | E7: 25 | F7: 24.5 | G7: =IF(E7="","",F7/E7) | H7: =IF(OR(D7="",G7=""),"",D7*G7) | I7: =IF(H7="","",H7*30)
B8: Heu | C8: Belmont | D8: 8 | E8: 25 | F8: 5.9 | G8: =IF(E8="","",F8/E8) | H8: =IF(OR(D8="",G8=""),"",D8*G8) | I8: =IF(H8="","",H8*30)
B9: Leinsamen, geschrotet | C9: Comtesse | D9: 0.2 | E9: 25 | F9: 39.9 | G9: =IF(E9="","",F9/E9) | H9: =IF(OR(D9="",G9=""),"",D9*G9) | I9: =IF(H9="","",H9*30)
B10: Hafer | C10: Comtesse | D10: 1.8 | E10: 25 | F10: 19.9 | G10: =IF(E10="","",F10/E10) | H10: =IF(OR(D10="",G10=""),"",D10*G10) | I10: =IF(H10="","",H10*30)
B11: Heu | C11: Comtesse | D11: 7 | E11: 25 | F11: 5.9 | G11: =IF(E11="","",F11/E11) | H11: =IF(OR(D11="",G11=""),"",D11*G11) | I11: =IF(H11="","",H11*30)
B12: Mineralfutter | C12: Iskander | D12: 0.05 | E12: 10 | F12: 22.9 | G12: =IF(E12="","",F12/E12) | H12: =IF(OR(D12="",G12=""),"",D12*G12) | I12: =IF(H12="","",H12*30)
G13: =IF(E13="","",F13/E13) | H13: =IF(OR(D13="",G13=""),"",D13*G13) | I13: =IF(H13="","",H13*30)
G14: =IF(E14="","",F14/E14) | H14: =IF(OR(D14="",G14=""),"",D14*G14) | I14: =IF(H14="","",H14*30)
G15: =IF(E15="","",F15/E15) | H15: =IF(OR(D15="",G15=""),"",D15*G15) | I15: =IF(H15="","",H15*30)
G16: =IF(E16="","",F16/E16) | H16: =IF(OR(D16="",G16=""),"",D16*G16) | I16: =IF(H16="","",H16*30)
G17: =IF(E17="","",F17/E17) | H17: =IF(OR(D17="",G17=""),"",D17*G17) | I17: =IF(H17="","",H17*30)
G18: =IF(E18="","",F18/E18) | H18: =IF(OR(D18="",G18=""),"",D18*G18) | I18: =IF(H18="","",H18*30)
G19: =IF(E19="","",F19/E19) | H19: =IF(OR(D19="",G19=""),"",D19*G19) | I19: =IF(H19="","",H19*30)
G20: =IF(E20="","",F20/E20) | H20: =IF(OR(D20="",G20=""),"",D20*G20) | I20: =IF(H20="","",H20*30)
G21: =IF(E21="","",F21/E21) | H21: =IF(OR(D21="",G21=""),"",D21*G21) | I21: =IF(H21="","",H21*30)
G22: =IF(E22="","",F22/E22) | H22: =IF(OR(D22="",G22=""),"",D22*G22) | I22: =IF(H22="","",H22*30)
G23: =IF(E23="","",F23/E23) | H23: =IF(OR(D23="",G23=""),"",D23*G23) | I23: =IF(H23="","",H23*30)
G24: =IF(E24="","",F24/E24) | H24: =IF(OR(D24="",G24=""),"",D24*G24) | I24: =IF(H24="","",H24*30)
G25: =IF(E25="","",F25/E25) | H25: =IF(OR(D25="",G25=""),"",D25*G25) | I25: =IF(H25="","",H25*30)
B27: Monatskosten je Pferd
B28: Pferd | C28: Kosten je Tag | D28: Kosten je Monat | E28: Anteil am Gesamt
B29: Belmont | C29: =IF(B29="","",SUMIF($C$6:$C$25,B29,$H$6:$H$25)) | D29: =IF(B29="","",SUMIF($C$6:$C$25,B29,$I$6:$I$25)) | E29: =IF(OR(B29="",$D$34=0),"",D29/$D$34)
B30: Comtesse | C30: =IF(B30="","",SUMIF($C$6:$C$25,B30,$H$6:$H$25)) | D30: =IF(B30="","",SUMIF($C$6:$C$25,B30,$I$6:$I$25)) | E30: =IF(OR(B30="",$D$34=0),"",D30/$D$34)
B31: Iskander | C31: =IF(B31="","",SUMIF($C$6:$C$25,B31,$H$6:$H$25)) | D31: =IF(B31="","",SUMIF($C$6:$C$25,B31,$I$6:$I$25)) | E31: =IF(OR(B31="",$D$34=0),"",D31/$D$34)
C32: =IF(B32="","",SUMIF($C$6:$C$25,B32,$H$6:$H$25)) | D32: =IF(B32="","",SUMIF($C$6:$C$25,B32,$I$6:$I$25)) | E32: =IF(OR(B32="",$D$34=0),"",D32/$D$34)
C33: =IF(B33="","",SUMIF($C$6:$C$25,B33,$H$6:$H$25)) | D33: =IF(B33="","",SUMIF($C$6:$C$25,B33,$I$6:$I$25)) | E33: =IF(OR(B33="",$D$34=0),"",D33/$D$34)
B34: Gesamt (alle Pferde) | C34: =SUM(C29:C33) | D34: =SUM(D29:D33)
B36: Alle Preise sind Beispielwerte. Weidegang, Einstreu und Abfüllgebühren sind nicht enthalten.

Sheet Jahresübersicht
B1: Jahresübersicht
B2: Monatskosten je Pferd aus dem Blatt Futterkosten, plus Saison-Zuschlag in Prozent.
B4: Jahreskosten je Pferd
B5: Pferd | C5: Ø Monatskosten | D5: Saison-Zuschlag | E5: Kosten im Jahr
B6: =IF('Futterkosten'!B29="","",'Futterkosten'!B29) | C6: =IF(B6="","",'Futterkosten'!D29) | D6: 0.1 | E6: =IF(B6="","",C6*12*(1+IF(D6="",0,D6)))
B7: =IF('Futterkosten'!B30="","",'Futterkosten'!B30) | C7: =IF(B7="","",'Futterkosten'!D30) | D7: 0.1 | E7: =IF(B7="","",C7*12*(1+IF(D7="",0,D7)))
B8: =IF('Futterkosten'!B31="","",'Futterkosten'!B31) | C8: =IF(B8="","",'Futterkosten'!D31) | D8: 0.1 | E8: =IF(B8="","",C8*12*(1+IF(D8="",0,D8)))
B9: =IF('Futterkosten'!B32="","",'Futterkosten'!B32) | C9: =IF(B9="","",'Futterkosten'!D32) | E9: =IF(B9="","",C9*12*(1+IF(D9="",0,D9)))
B10: =IF('Futterkosten'!B33="","",'Futterkosten'!B33) | C10: =IF(B10="","",'Futterkosten'!D33) | E10: =IF(B10="","",C10*12*(1+IF(D10="",0,D10)))
B11: Gesamt im Jahr | E11: =SUM(E6:E10)
B13: Der Saison-Zuschlag deckt zum Beispiel höhere Heupreise im Winter ab. 0 eingeben, wenn die Monatskosten das ganze Jahr gelten.
